BEGIN:VCALENDAR
VERSION:2.0
PRODID:-//Kulvio Event Calendar//kulvio.de//
CALSCALE:GREGORIAN
METHOD:PUBLISH
BEGIN:VEVENT
SUMMARY:Herbstmarkt Sulzbach
DTSTART:20261101T090000Z
DTEND:20261101T160000Z
DTSTAMP:20260421T035204Z
UID:kulvio-event-2732@kulvio.de
CATEGORIES:Saisonmarkt
CREATED:20260419T155706Z
DESCRIPTION:Im Bürgerzentrum Frankfurter Hof in Sulzbach (Taunus) findet 
 der Herbstmarkt statt. Händler und Kunsthandwerker bieten saisonale Produ
 kte\, Dekorationsartikel und kulinarische Spezialitäten an. Der Markt beg
 innt um 10 Uhr und bietet eine Gelegenheit zum Stöbern und Einkaufen in h
 erbstlicher Atmosphäre.
GEO:50.135179;8.525848
LAST-MODIFIED:20260419T160134Z
LOCATION:Bürgerzentrum Frankfurter Hof\, Cretzschmarstraße 6\, 65843\, S
 ulzbach (Taunus)
STATUS:CONFIRMED
URL:https://kulvio.de/event/2732
END:VEVENT
END:VCALENDAR
