BEGIN:VCALENDAR
VERSION:2.0
PRODID:-//Kulvio Event Calendar//kulvio.de//
CALSCALE:GREGORIAN
METHOD:PUBLISH
BEGIN:VEVENT
SUMMARY:Sulzbacher Weihnachtsmarkt
DTSTART:20261128T130000Z
DTEND:20261128T190000Z
DTSTAMP:20260421T042434Z
UID:kulvio-event-2733@kulvio.de
CATEGORIES:Weihnachtsmarkt
CREATED:20260419T155706Z
DESCRIPTION:Der Sulzbacher Weihnachtsmarkt findet am Platz an der Linde im
  Zentrum der Gemeinde statt. Rund um die Evangelische Kirche bieten Ständ
 e Kunsthandwerk\, weihnachtliche Spezialitäten und Glühwein an. Der Mark
 t öffnet um 14 Uhr und stimmt auf die Adventszeit ein.
GEO:50.133321;8.528583
LAST-MODIFIED:20260419T160134Z
LOCATION:Platz an der Linde\, 65843\, Sulzbach (Taunus)
STATUS:CONFIRMED
URL:https://kulvio.de/event/2733
END:VEVENT
END:VCALENDAR
