BEGIN:VCALENDAR
VERSION:2.0
PRODID:-//Kulvio Event Calendar//kulvio.de//
CALSCALE:GREGORIAN
METHOD:PUBLISH
BEGIN:VEVENT
SUMMARY:Rebekka Bakken Trio im Bürgerhaus Dreieich
DTSTART:20260429T180000Z
DTEND:20260429T203000Z
DTSTAMP:20260421T042809Z
UID:kulvio-event-2734@kulvio.de
CATEGORIES:Konzert
CREATED:20260419T155728Z
DESCRIPTION:Die norwegische Sängerin Rebekka Bakken gastiert mit ihrem Tr
 io im Bürgerhaus Sprendlingen in Dreieich. Bakken gilt als eine der eindr
 ücklichsten Stimmen Skandinaviens und verbindet Jazz\, Pop und Chanson zu
  einem eigenen Stil. Das Konzert beginnt um 20 Uhr im Großen Saal des Bü
 rgerhauses.
GEO:50.023075;8.688113
LAST-MODIFIED:20260419T160134Z
LOCATION:Bürgerhaus Sprendlingen\, Fichtestraße 50\, 63303\, Dreieich
STATUS:CONFIRMED
URL:https://kulvio.de/event/2734
END:VEVENT
END:VCALENDAR
