BEGIN:VCALENDAR
VERSION:2.0
PRODID:-//Kulvio Event Calendar//kulvio.de//
CALSCALE:GREGORIAN
METHOD:PUBLISH
BEGIN:VEVENT
SUMMARY:Jazz am 1. Mai in Dreieich
DTSTART:20260501T080000Z
DTEND:20260501T120000Z
DTSTAMP:20260421T042459Z
UID:kulvio-event-2735@kulvio.de
CATEGORIES:Konzert
CREATED:20260419T155728Z
DESCRIPTION:Die traditionelle Jazzveranstaltung am 1. Mai im Bürgerhaus S
 prendlingen bringt Boogie-Woogie-Pianist Christoph Oeser\, die österreich
 ische Swing-Formation Marina & The Kats und die Barrelhouse Jazzband auf d
 ie Bühne. Der Jazzmorgen beginnt bereits um 10 Uhr und gehört zu den bel
 iebtesten Traditionsveranstaltungen in Dreieich.
GEO:50.023075;8.688113
LAST-MODIFIED:20260419T160134Z
LOCATION:Bürgerhaus Sprendlingen\, Fichtestraße 50\, 63303\, Dreieich
STATUS:CONFIRMED
URL:https://kulvio.de/event/2735
END:VEVENT
END:VCALENDAR
