BEGIN:VCALENDAR
VERSION:2.0
PRODID:-//Kulvio Event Calendar//kulvio.de//
CALSCALE:GREGORIAN
METHOD:PUBLISH
BEGIN:VEVENT
SUMMARY:Christian Ehring: Versöhnung
DTSTART:20260509T180000Z
DTEND:20260509T200000Z
DTSTAMP:20260421T041936Z
UID:kulvio-event-2736@kulvio.de
CATEGORIES:Kabarett
CREATED:20260419T155728Z
DESCRIPTION:Der Kabarettist und extra3-Moderator Christian Ehring präsent
 iert sein Programm Versöhnung im Bürgerhaus Sprendlingen in Dreieich. In
  seiner hochaktuellen Show verbindet Ehring politischen Scharfsinn mit per
 sönlichen Beobachtungen und bringt die großen Themen der Zeit auf den Pu
 nkt. Beginn ist um 20 Uhr.
GEO:50.023075;8.688113
LAST-MODIFIED:20260419T160134Z
LOCATION:Bürgerhaus Sprendlingen\, Fichtestraße 50\, 63303\, Dreieich
STATUS:CONFIRMED
URL:https://kulvio.de/event/2736
END:VEVENT
END:VCALENDAR
