BEGIN:VCALENDAR
VERSION:2.0
PRODID:-//Kulvio Event Calendar//kulvio.de//
CALSCALE:GREGORIAN
METHOD:PUBLISH
BEGIN:VEVENT
SUMMARY:Starbugs Comedy: Showtime!
DTSTART:20260521T180000Z
DTEND:20260521T200000Z
DTSTAMP:20260421T035200Z
UID:kulvio-event-2737@kulvio.de
CATEGORIES:Comedy
CREATED:20260419T155728Z
DESCRIPTION:Das Schweizer Comedy-Trio Starbugs Comedy bringt seine Show Sh
 owtime! ins Bürgerhaus Sprendlingen in Dreieich. Die drei Komiker verbind
 en Slapstick\, Akrobatik und Timing zu wortloser Weltklasse-Comedy\, die o
 hne Sprache auskommt und international begeistert. Das Programm beginnt um
  20 Uhr.
GEO:50.023075;8.688113
LAST-MODIFIED:20260419T160134Z
LOCATION:Bürgerhaus Sprendlingen\, Fichtestraße 50\, 63303\, Dreieich
STATUS:CONFIRMED
URL:https://kulvio.de/event/2737
END:VEVENT
END:VCALENDAR
