BEGIN:VCALENDAR
VERSION:2.0
PRODID:-//Kulvio Event Calendar//kulvio.de//
CALSCALE:GREGORIAN
METHOD:PUBLISH
BEGIN:VEVENT
SUMMARY:Burgfestspiele Dreieich: Max Mutzke
DTSTART:20260624T180000Z
DTEND:20260624T200000Z
DTSTAMP:20260421T085056Z
UID:kulvio-event-2738@kulvio.de
CATEGORIES:Konzert,Open-Air
CREATED:20260419T155728Z
DESCRIPTION:Die Burgfestspiele Dreieichenhain 2026 eröffnen mit drei Konz
 ertabenden von Max Mutzke auf der Freilichtbühne von Burg Hayn. Der Säng
 er\, der durch den Eurovision Song Contest 2004 bekannt wurde\, präsentie
 rt seine Mischung aus Soul\, Pop und Jazz vor der historischen Burgruine. 
 Das Konzert beginnt um 20 Uhr.
GEO:50.000063;8.714006
LAST-MODIFIED:20260419T160134Z
LOCATION:Burg Hayn\, Fahrgasse\, 63303\, Dreieich
STATUS:CONFIRMED
URL:https://kulvio.de/event/2738
END:VEVENT
END:VCALENDAR
