BEGIN:VCALENDAR
VERSION:2.0
PRODID:-//Kulvio Event Calendar//kulvio.de//
CALSCALE:GREGORIAN
METHOD:PUBLISH
BEGIN:VEVENT
SUMMARY:Burgfestspiele Dreieich: Moka Efti Orchestra
DTSTART:20260709T180000Z
DTEND:20260709T200000Z
DTSTAMP:20260421T041936Z
UID:kulvio-event-2739@kulvio.de
CATEGORIES:Konzert,Open-Air
CREATED:20260419T155728Z
DESCRIPTION:Das Moka Efti Orchestra\, bekannt aus der TV-Serie Babylon Ber
 lin\, spielt auf der Freilichtbühne von Burg Hayn in Dreieichenhain. Die 
 Band bringt den Sound der Goldenen Zwanziger mit Swing\, Jazz und Tanzmusi
 k auf die Bühne der Burgfestspiele. Beginn ist um 20 Uhr.
GEO:50.000063;8.714006
LAST-MODIFIED:20260419T160134Z
LOCATION:Burg Hayn\, Fahrgasse\, 63303\, Dreieich
STATUS:CONFIRMED
URL:https://kulvio.de/event/2739
END:VEVENT
END:VCALENDAR
