BEGIN:VCALENDAR
VERSION:2.0
PRODID:-//Kulvio Event Calendar//kulvio.de//
CALSCALE:GREGORIAN
METHOD:PUBLISH
BEGIN:VEVENT
SUMMARY:Burgfestspiele Dreieich: Götz Alsmann
DTSTART:20260710T180000Z
DTEND:20260710T200000Z
DTSTAMP:20260421T042458Z
UID:kulvio-event-2740@kulvio.de
CATEGORIES:Konzert,Open-Air
CREATED:20260419T155728Z
DESCRIPTION:Der Entertainer und Musiker Götz Alsmann gastiert bei den Bur
 gfestspielen Dreieichenhain auf der Freilichtbühne von Burg Hayn. Alsmann
  ist bekannt für seine Interpretationen von Swing\, Jazz und deutschsprac
 higen Schlagern\, die er mit Humor und Virtuosität präsentiert. Das Konz
 ert beginnt um 20 Uhr.
GEO:50.000063;8.714006
LAST-MODIFIED:20260419T160134Z
LOCATION:Burg Hayn\, Fahrgasse\, 63303\, Dreieich
STATUS:CONFIRMED
URL:https://kulvio.de/event/2740
END:VEVENT
END:VCALENDAR
