BEGIN:VCALENDAR
VERSION:2.0
PRODID:-//Kulvio Event Calendar//kulvio.de//
CALSCALE:GREGORIAN
METHOD:PUBLISH
BEGIN:VEVENT
SUMMARY:Burgfestspiele Dreieich: Laith Al-Deen
DTSTART:20260711T180000Z
DTEND:20260711T200000Z
DTSTAMP:20260421T042425Z
UID:kulvio-event-2741@kulvio.de
CATEGORIES:Konzert,Open-Air
CREATED:20260419T155728Z
DESCRIPTION:Der Singer-Songwriter Laith Al-Deen spielt bei den Burgfestspi
 elen auf der Freilichtbühne von Burg Hayn in Dreieichenhain. Mit Hits wie
  Bilder von dir und Alles an dir gehört Al-Deen zu den erfolgreichsten de
 utschsprachigen Pop-Musikern. Das Open-Air-Konzert beginnt um 20 Uhr.
GEO:50.000063;8.714006
LAST-MODIFIED:20260419T160134Z
LOCATION:Burg Hayn\, Fahrgasse\, 63303\, Dreieich
STATUS:CONFIRMED
URL:https://kulvio.de/event/2741
END:VEVENT
END:VCALENDAR
