BEGIN:VCALENDAR
VERSION:2.0
PRODID:-//Kulvio Event Calendar//kulvio.de//
CALSCALE:GREGORIAN
METHOD:PUBLISH
BEGIN:VEVENT
SUMMARY:Burgfestspiele Dreieich: Sona Jobarteh & Band
DTSTART:20260723T180000Z
DTEND:20260723T200000Z
DTSTAMP:20260421T042940Z
UID:kulvio-event-2742@kulvio.de
CATEGORIES:Konzert,Open-Air
CREATED:20260419T155728Z
DESCRIPTION:Die gambische Musikerin Sona Jobarteh tritt mit ihrer Band bei
  den Burgfestspielen auf der Freilichtbühne von Burg Hayn in Dreieichenha
 in auf. Jobarteh ist die erste Frau aus einer Griot-Familie\, die als prof
 essionelle Kora-Virtuosin international bekannt wurde. Ihr Konzert verbind
 et westafrikanische Tradition mit modernen Klängen und beginnt um 20 Uhr.
GEO:50.000063;8.714006
LAST-MODIFIED:20260419T160134Z
LOCATION:Burg Hayn\, Fahrgasse\, 63303\, Dreieich
STATUS:CONFIRMED
URL:https://kulvio.de/event/2742
END:VEVENT
END:VCALENDAR
