BEGIN:VCALENDAR
VERSION:2.0
PRODID:-//Kulvio Event Calendar//kulvio.de//
CALSCALE:GREGORIAN
METHOD:PUBLISH
BEGIN:VEVENT
SUMMARY:Burgfestspiele Dreieich: Elvis – Das Musical
DTSTART:20260731T180000Z
DTEND:20260731T203000Z
DTSTAMP:20260421T042823Z
UID:kulvio-event-2743@kulvio.de
CATEGORIES:Musical,Open-Air
CREATED:20260419T155728Z
DESCRIPTION:Das Musical Elvis wird auf der Freilichtbühne von Burg Hayn b
 ei den Burgfestspielen Dreieichenhain aufgeführt. Die Produktion zeichnet
  das Leben und die Musik des King of Rock 'n' Roll nach und bringt seine g
 rößten Hits auf die Open-Air-Bühne. Das Musical beginnt um 20 Uhr und l
 äuft an zwei Abenden.
GEO:50.000063;8.714006
LAST-MODIFIED:20260419T160134Z
LOCATION:Burg Hayn\, Fahrgasse\, 63303\, Dreieich
STATUS:CONFIRMED
URL:https://kulvio.de/event/2743
END:VEVENT
END:VCALENDAR
