BEGIN:VCALENDAR
VERSION:2.0
PRODID:-//Kulvio Event Calendar//kulvio.de//
CALSCALE:GREGORIAN
METHOD:PUBLISH
BEGIN:VEVENT
SUMMARY:Soul and Funk Night im Bürgerhaus Dreieich
DTSTART:20261017T170000Z
DTEND:20261017T210000Z
DTSTAMP:20260421T042425Z
UID:kulvio-event-2744@kulvio.de
CATEGORIES:Konzert,Party
CREATED:20260419T155728Z
DESCRIPTION:Im Bürgerhaus Sprendlingen in Dreieich steigt die Soul and Fu
 nk Night mit den Bands SoularPlexus und Key to Kingdom. Der Abend bietet e
 inen Mix aus Funk\, Soul und Jazz mit zwei Live-Bands\, die für Tanzstimm
 ung sorgen. Einlass ist ab 19 Uhr\, das Konzert beginnt im Großen Saal.
GEO:50.023075;8.688113
LAST-MODIFIED:20260419T160134Z
LOCATION:Bürgerhaus Sprendlingen\, Fichtestraße 50\, 63303\, Dreieich
STATUS:CONFIRMED
URL:https://kulvio.de/event/2744
END:VEVENT
END:VCALENDAR
