BEGIN:VCALENDAR
VERSION:2.0
PRODID:-//Kulvio Event Calendar//kulvio.de//
CALSCALE:GREGORIAN
METHOD:PUBLISH
BEGIN:VEVENT
SUMMARY:Salut Salon: heimat
DTSTART:20261108T180000Z
DTEND:20261108T203000Z
DTSTAMP:20260421T042425Z
UID:kulvio-event-2745@kulvio.de
CATEGORIES:Konzert,Show
CREATED:20260419T155728Z
DESCRIPTION:Das Hamburger Quartett Salut Salon präsentiert sein Programm 
 heimat im Bürgerhaus Sprendlingen in Dreieich. Die Formation aus zwei Gei
 gen\, Cello und Klavier bewegt sich zwischen Vivaldi und Vokalakrobatik un
 d verbindet klassische Virtuosität mit Humor und Unterhaltung. Das Konzer
 t beginnt um 19 Uhr.
GEO:50.023075;8.688113
LAST-MODIFIED:20260419T160134Z
LOCATION:Bürgerhaus Sprendlingen\, Fichtestraße 50\, 63303\, Dreieich
STATUS:CONFIRMED
URL:https://kulvio.de/event/2745
END:VEVENT
END:VCALENDAR
