BEGIN:VCALENDAR
VERSION:2.0
PRODID:-//Kulvio Event Calendar//kulvio.de//
CALSCALE:GREGORIAN
METHOD:PUBLISH
BEGIN:VEVENT
SUMMARY:Horst Evers: So gesehen natürlich lustig
DTSTART:20261110T190000Z
DTEND:20261110T210000Z
DTSTAMP:20260421T042458Z
UID:kulvio-event-2746@kulvio.de
CATEGORIES:Comedy,Lesung
CREATED:20260419T155728Z
DESCRIPTION:Der Berliner Autor und Geschichtenerzähler Horst Evers liest 
 und erzählt im Bürgerhaus Sprendlingen in Dreieich aus seinem Programm S
 o gesehen natürlich lustig. Evers verbindet Alltagsbeobachtungen mit troc
 kenem Humor und gehört zu den beliebtesten Lesebühnen-Künstlern Deutsch
 lands. Beginn ist um 20 Uhr.
GEO:50.023075;8.688113
LAST-MODIFIED:20260419T160134Z
LOCATION:Bürgerhaus Sprendlingen\, Fichtestraße 50\, 63303\, Dreieich
STATUS:CONFIRMED
URL:https://kulvio.de/event/2746
END:VEVENT
END:VCALENDAR
