BEGIN:VCALENDAR
VERSION:2.0
PRODID:-//Kulvio Event Calendar//kulvio.de//
CALSCALE:GREGORIAN
METHOD:PUBLISH
BEGIN:VEVENT
SUMMARY:Mathias Richling: KI – Keine Identität
DTSTART:20261210T190000Z
DTEND:20261210T210000Z
DTSTAMP:20260421T042810Z
UID:kulvio-event-2747@kulvio.de
CATEGORIES:Kabarett
CREATED:20260419T155728Z
DESCRIPTION:Der Kabarettist und Parodist Mathias Richling bringt sein Prog
 ramm KI – Keine Identität ins Bürgerhaus Sprendlingen in Dreieich. Ric
 hling gehört zu den profiliertesten politischen Kabarettisten Deutschland
 s und verarbeitet in seinem neuen Programm aktuelle Themen mit Humor\, Tem
 po und Denkanstößen. Beginn ist um 20 Uhr.
GEO:50.023075;8.688113
LAST-MODIFIED:20260419T160134Z
LOCATION:Bürgerhaus Sprendlingen\, Fichtestraße 50\, 63303\, Dreieich
STATUS:CONFIRMED
URL:https://kulvio.de/event/2747
END:VEVENT
END:VCALENDAR
