BEGIN:VCALENDAR
VERSION:2.0
PRODID:-//Kulvio Event Calendar//kulvio.de//
CALSCALE:GREGORIAN
METHOD:PUBLISH
BEGIN:VEVENT
SUMMARY:Ass-Dur: Die Weihnachtsshow
DTSTART:20261218T190000Z
DTEND:20261218T210000Z
DTSTAMP:20260421T042459Z
UID:kulvio-event-2748@kulvio.de
CATEGORIES:Show,Comedy
CREATED:20260419T155728Z
DESCRIPTION:Das Musik-Comedy-Trio Ass-Dur präsentiert seine Weihnachtssho
 w im Bürgerhaus Sprendlingen in Dreieich. Die drei Musiker verbinden Musi
 k\, Comedy und Spektakel zu einem festlichen Abend\, der Weihnachtsklassik
 er mit Humor und Virtuosität neu interpretiert. Das Programm beginnt um 2
 0 Uhr.
GEO:50.023075;8.688113
LAST-MODIFIED:20260419T160134Z
LOCATION:Bürgerhaus Sprendlingen\, Fichtestraße 50\, 63303\, Dreieich
STATUS:CONFIRMED
URL:https://kulvio.de/event/2748
END:VEVENT
END:VCALENDAR
