BEGIN:VCALENDAR
VERSION:2.0
PRODID:-//Kulvio Event Calendar//kulvio.de//
CALSCALE:GREGORIAN
METHOD:PUBLISH
BEGIN:VEVENT
SUMMARY:The Gypsys: Tanz in den Mai
DTSTART:20260430T180000Z
DTEND:20260430T230000Z
DTSTAMP:20260421T041936Z
UID:kulvio-event-2749@kulvio.de
CATEGORIES:Konzert,Party
CREATED:20260419T160213Z
DESCRIPTION:Die Band The Gypsys spielt zum Tanz in den Mai im Saalbau Eige
 nheim in Egelsbach. Der Abend beginnt um 20 Uhr\, Einlass ist ab 19 Uhr. D
 er Saalbau Eigenheim bietet Platz für bis zu 600 Gäste und liegt zentral
  in der Ortsmitte von Egelsbach.
GEO:49.967906;8.666753
LAST-MODIFIED:20260420T175720Z
LOCATION:Saalbau Eigenheim\, Kirchstraße 19\, 63329\, Egelsbach
STATUS:CONFIRMED
URL:https://kulvio.de/event/2749
END:VEVENT
END:VCALENDAR
