BEGIN:VCALENDAR
VERSION:2.0
PRODID:-//Kulvio Event Calendar//kulvio.de//
CALSCALE:GREGORIAN
METHOD:PUBLISH
BEGIN:VEVENT
SUMMARY:Frühlings-Erlachen: Daniel Helfrich & Friends
DTSTART:20260527T173000Z
DTEND:20260527T200000Z
DTSTAMP:20260421T042458Z
UID:kulvio-event-2750@kulvio.de
CATEGORIES:Comedy,Kabarett
CREATED:20260419T160213Z
DESCRIPTION:Beim Frühlings-Erlachen im Saalbau Eigenheim in Egelsbach tre
 ten Daniel Helfrich\, Jess Jochimsen\, Fee Badenius\, René Sydow und Ausb
 ilder Schmidt gemeinsam auf. Die Comedy- und Kabarett-Show vereint fünf K
 ünstler an einem Abend und bietet eine Mischung aus Stand-Up\, Musik und 
 Satire. Einlass ist ab 19 Uhr\, das Programm beginnt um 19:30 Uhr.
GEO:49.967906;8.666753
LAST-MODIFIED:20260420T175720Z
LOCATION:Saalbau Eigenheim\, Kirchstraße 19\, 63329\, Egelsbach
STATUS:CONFIRMED
URL:https://kulvio.de/event/2750
END:VEVENT
END:VCALENDAR
