BEGIN:VCALENDAR
VERSION:2.0
PRODID:-//Kulvio Event Calendar//kulvio.de//
CALSCALE:GREGORIAN
METHOD:PUBLISH
BEGIN:VEVENT
SUMMARY:Turmfest Egelsbach - Samstag
DTSTART:20260801T160000Z
DTEND:20260801T215900Z
DTSTAMP:20260421T043142Z
UID:kulvio-event-2751@kulvio.de
CATEGORIES:Stadtfest
CREATED:20260419T160213Z
DESCRIPTION:Das Turmfest der Freiwilligen Feuerwehr Egelsbach startet am S
 amstagabend mit einer Festeröffnung auf dem Gelände an der Frankfurter S
 traße. Eine Cocktailbar und ein Live-DJ sorgen für Stimmung bis in die N
 acht. Das Turmfest ist eine feste Tradition in Egelsbach und lockt jedes J
 ahr zahlreiche Besucher an.
GEO:49.991789;8.680393
LAST-MODIFIED:20260420T175731Z
LOCATION:Frankfurter Straße 32\, 63329\, Egelsbach
STATUS:CONFIRMED
URL:https://kulvio.de/event/2751
END:VEVENT
END:VCALENDAR
