BEGIN:VCALENDAR
VERSION:2.0
PRODID:-//Kulvio Event Calendar//kulvio.de//
CALSCALE:GREGORIAN
METHOD:PUBLISH
BEGIN:VEVENT
SUMMARY:Turmfest Egelsbach - Sonntag
DTSTART:20260802T080000Z
DTEND:20260802T140000Z
DTSTAMP:20260421T043148Z
UID:kulvio-event-2752@kulvio.de
CATEGORIES:Stadtfest
CREATED:20260419T160213Z
DESCRIPTION:Am Sonntag geht das Turmfest der Freiwilligen Feuerwehr Egelsb
 ach in die zweite Runde. Ab 10 Uhr gibt es einen Frühschoppen mit Live-Mu
 sik und einen Tag der offenen Tür bei der Feuerwehr. Familien können die
  Fahrzeuge und Ausrüstung der Feuerwehr aus der Nähe erleben.
GEO:49.991789;8.680393
LAST-MODIFIED:20260420T175731Z
LOCATION:Frankfurter Straße 32\, 63329\, Egelsbach
STATUS:CONFIRMED
URL:https://kulvio.de/event/2752
END:VEVENT
END:VCALENDAR
