BEGIN:VCALENDAR
VERSION:2.0
PRODID:-//Kulvio Event Calendar//kulvio.de//
CALSCALE:GREGORIAN
METHOD:PUBLISH
BEGIN:VEVENT
SUMMARY:Frühlingsfest der Vereine - Samstag
DTSTART:20260425T090000Z
DTEND:20260425T180000Z
DTSTAMP:20260421T043142Z
UID:kulvio-event-2753@kulvio.de
CATEGORIES:Stadtfest
CREATED:20260419T160250Z
DESCRIPTION:Das Frühlingsfest der Vereine in Hainburg bringt die lokalen 
 Vereine aus Hainstadt und Klein-Krotzenburg zusammen. Auf dem Gelände der
  Freien Turnerschaft Hainstadt gibt es Essen und Trinken\, Spiele für Kin
 der und ein Rahmenprogramm der teilnehmenden Vereine. Für Familien finden
  archäologische Ausgrabungen für Kinder statt.
GEO:50.080486;8.925794
LAST-MODIFIED:20260420T175721Z
LOCATION:Am Katzenfeld 7\, 63512\, Hainburg
STATUS:CONFIRMED
URL:https://kulvio.de/event/2753
END:VEVENT
END:VCALENDAR
