BEGIN:VCALENDAR
VERSION:2.0
PRODID:-//Kulvio Event Calendar//kulvio.de//
CALSCALE:GREGORIAN
METHOD:PUBLISH
BEGIN:VEVENT
SUMMARY:Frühlingsfest der Vereine - Sonntag
DTSTART:20260426T090000Z
DTEND:20260426T160000Z
DTSTAMP:20260421T043151Z
UID:kulvio-event-2754@kulvio.de
CATEGORIES:Stadtfest
CREATED:20260419T160250Z
DESCRIPTION:Am Sonntag geht das Frühlingsfest der Vereine in Hainburg in 
 die zweite Runde. Die Vereine aus Hainstadt und Klein-Krotzenburg laden au
 f das Gelände der Freien Turnerschaft ein. Neben kulinarischen Angeboten 
 gibt es Aktivitäten für Kinder und Vorführungen der lokalen Vereine.
GEO:50.080486;8.925794
LAST-MODIFIED:20260420T175721Z
LOCATION:Am Katzenfeld 7\, 63512\, Hainburg
STATUS:CONFIRMED
URL:https://kulvio.de/event/2754
END:VEVENT
END:VCALENDAR
