BEGIN:VCALENDAR
VERSION:2.0
PRODID:-//Kulvio Event Calendar//kulvio.de//
CALSCALE:GREGORIAN
METHOD:PUBLISH
BEGIN:VEVENT
SUMMARY:Hainburger Markt mit Flohmarkt - Samstag
DTSTART:20260530T070000Z
DTEND:20260530T140000Z
DTSTAMP:20260421T042811Z
UID:kulvio-event-2755@kulvio.de
CATEGORIES:Flohmarkt,Stadtfest
CREATED:20260419T160250Z
DESCRIPTION:Der Hainburger Markt findet 2026 an einem neuen Standort auf d
 er Lessingstraße und Schillerstraße sowie dem Feuerwehrplatz in Hainstad
 t statt. Am Samstag öffnet der traditionelle Flohmarkt mit bis zu 100 St
 änden ab 9 Uhr. Besucher finden Trödel\, Haushaltswaren und Gebrauchtes 
 bis 16 Uhr.
GEO:50.080705;8.935509
LAST-MODIFIED:20260420T175724Z
LOCATION:Lessingstraße\, 63512\, Hainburg
STATUS:CONFIRMED
URL:https://kulvio.de/event/2755
END:VEVENT
END:VCALENDAR
