BEGIN:VCALENDAR
VERSION:2.0
PRODID:-//Kulvio Event Calendar//kulvio.de//
CALSCALE:GREGORIAN
METHOD:PUBLISH
BEGIN:VEVENT
SUMMARY:Hainburger Markt mit Flohmarkt - Sonntag
DTSTART:20260531T070000Z
DTEND:20260531T140000Z
DTSTAMP:20260421T042500Z
UID:kulvio-event-2756@kulvio.de
CATEGORIES:Flohmarkt,Stadtfest
CREATED:20260419T160250Z
DESCRIPTION:Am Sonntag setzt der Hainburger Markt auf der Lessingstraße u
 nd Schillerstraße in Hainstadt fort. Der Flohmarkt bietet erneut von 9 bi
 s 16 Uhr Gelegenheit zum Stöbern und Handeln. Der Gewerbeverein Hainburg 
 organisiert das dreitägige Fest als eine der größten Veranstaltungen de
 r Gemeinde.
GEO:50.080705;8.935509
LAST-MODIFIED:20260420T175724Z
LOCATION:Lessingstraße\, 63512\, Hainburg
STATUS:CONFIRMED
URL:https://kulvio.de/event/2756
END:VEVENT
END:VCALENDAR
