BEGIN:VCALENDAR
VERSION:2.0
PRODID:-//Kulvio Event Calendar//kulvio.de//
CALSCALE:GREGORIAN
METHOD:PUBLISH
BEGIN:VEVENT
SUMMARY:Ganz Paris träumt von der Liebe: Stefanie Hertel
DTSTART:20260423T173000Z
DTEND:20260423T200000Z
DTSTAMP:20260421T043151Z
UID:kulvio-event-2757@kulvio.de
CATEGORIES:Show,Konzert
CREATED:20260419T160305Z
DESCRIPTION:Stefanie Hertel präsentiert die musikalische Komödie Ganz Pa
 ris träumt von der Liebe in der Neuen Stadthalle Langen. Die Sängerin un
 d Entertainerin führt durch einen Abend mit Chansons\, Schlager und humor
 vollen Geschichten rund um die Liebe. Das Programm beginnt um 19:30 Uhr.
GEO:49.987227;8.666699
LAST-MODIFIED:20260419T160815Z
LOCATION:Neue Stadthalle Langen\, Südliche Ringstraße 80a\, 63225\, Lang
 en (Hessen)
STATUS:CONFIRMED
URL:https://kulvio.de/event/2757
END:VEVENT
END:VCALENDAR
