BEGIN:VCALENDAR
VERSION:2.0
PRODID:-//Kulvio Event Calendar//kulvio.de//
CALSCALE:GREGORIAN
METHOD:PUBLISH
BEGIN:VEVENT
SUMMARY:Dance Masters! - Best of Irish Dance
DTSTART:20260428T173000Z
DTEND:20260428T200000Z
DTSTAMP:20260421T043149Z
UID:kulvio-event-2758@kulvio.de
CATEGORIES:Show,Tanz
CREATED:20260419T160305Z
DESCRIPTION:Die Tanzshow Dance Masters gastiert in der Neuen Stadthalle La
 ngen und bringt die Energie und Präzision des Irish Dance auf die Bühne.
  Die Show vereint traditionellen irischen Stepptanz mit moderner Choreogra
 fie und Live-Musik. Das Programm beginnt um 19:30 Uhr.
GEO:49.987227;8.666699
LAST-MODIFIED:20260419T160815Z
LOCATION:Neue Stadthalle Langen\, Südliche Ringstraße 80a\, 63225\, Lang
 en (Hessen)
STATUS:CONFIRMED
URL:https://kulvio.de/event/2758
END:VEVENT
END:VCALENDAR
