BEGIN:VCALENDAR
VERSION:2.0
PRODID:-//Kulvio Event Calendar//kulvio.de//
CALSCALE:GREGORIAN
METHOD:PUBLISH
BEGIN:VEVENT
SUMMARY:Hexenball: Tanz in den Mai
DTSTART:20260430T180000Z
DTEND:20260501T000000Z
DTSTAMP:20260421T042801Z
UID:kulvio-event-2759@kulvio.de
CATEGORIES:Party
CREATED:20260419T160305Z
DESCRIPTION:Zum Tanz in den Mai lädt die Neue Stadthalle Langen zum Hexen
 ball ein. DJ Stargate legt auf und sorgt für Partystimmung bis in die Nac
 ht. Der Eintritt kostet 10 Euro\, der Abend beginnt um 20 Uhr.
GEO:49.987227;8.666699
LAST-MODIFIED:20260419T160815Z
LOCATION:Neue Stadthalle Langen\, Südliche Ringstraße 80a\, 63225\, Lang
 en (Hessen)
STATUS:CONFIRMED
URL:https://kulvio.de/event/2759
END:VEVENT
END:VCALENDAR
