BEGIN:VCALENDAR
VERSION:2.0
PRODID:-//Kulvio Event Calendar//kulvio.de//
CALSCALE:GREGORIAN
METHOD:PUBLISH
BEGIN:VEVENT
SUMMARY:Countryfest 2026
DTSTART:20260514T090000Z
DTEND:20260514T160000Z
DTSTAMP:20260421T112142Z
UID:kulvio-event-2760@kulvio.de
CATEGORIES:Konzert,Open-Air
CREATED:20260419T160305Z
DESCRIPTION:Am Vatertag feiert die Neue Stadthalle Langen das Countryfest 
 im Biergarten. Von 11 bis 18 Uhr gibt es Country-Musik\, Square Dance und 
 regionale Küche unter freiem Himmel. Das Countryfest ist ein beliebter Tr
 effpunkt für Familien und Freunde am Feiertag.
GEO:49.987227;8.666699
LAST-MODIFIED:20260419T160815Z
LOCATION:Neue Stadthalle Langen\, Südliche Ringstraße 80a\, 63225\, Lang
 en (Hessen)
STATUS:CONFIRMED
URL:https://kulvio.de/event/2760
END:VEVENT
END:VCALENDAR
