BEGIN:VCALENDAR
VERSION:2.0
PRODID:-//Kulvio Event Calendar//kulvio.de//
CALSCALE:GREGORIAN
METHOD:PUBLISH
BEGIN:VEVENT
SUMMARY:Ebbelwoifest Langen - Freitag
DTSTART:20260619T160000Z
DTEND:20260619T210000Z
DTSTAMP:20260421T043143Z
UID:kulvio-event-2761@kulvio.de
CATEGORIES:Stadtfest,Tradition
CREATED:20260419T160306Z
DESCRIPTION:Das Langener Ebbelwoifest eröffnet am Freitagabend rund um de
 n Vierröhrenbrunnen in der Altstadt. Vier Tage lang fließt aus dem histo
 rischen Brunnen das süffige Stöffche und die Langener Vereine sorgen fü
 r kulinarische Angebote und Live-Musik. Der Freitagabend bildet den Auftak
 t des traditionellen Festes.
GEO:49.989306;8.680358
LAST-MODIFIED:20260420T175726Z
LOCATION:Vierröhrenbrunnen\, 63225\, Langen (Hessen)
STATUS:CONFIRMED
URL:https://kulvio.de/event/2761
END:VEVENT
END:VCALENDAR
