BEGIN:VCALENDAR
VERSION:2.0
PRODID:-//Kulvio Event Calendar//kulvio.de//
CALSCALE:GREGORIAN
METHOD:PUBLISH
BEGIN:VEVENT
SUMMARY:Ebbelwoifest Langen - Samstag
DTSTART:20260620T120000Z
DTEND:20260620T210000Z
DTSTAMP:20260421T042946Z
UID:kulvio-event-2762@kulvio.de
CATEGORIES:Stadtfest,Tradition
CREATED:20260419T160306Z
DESCRIPTION:Am Samstag erreicht das Langener Ebbelwoifest seinen Höhepunk
 t. Rund um den Vierröhrenbrunnen in der Altstadt gibt es Apfelwein\, hess
 ische Spezialitäten und Live-Musik. Die Langener Vereine betreiben Ständ
 e mit Essen und Getränken.
GEO:49.989306;8.680358
LAST-MODIFIED:20260420T175727Z
LOCATION:Vierröhrenbrunnen\, 63225\, Langen (Hessen)
STATUS:CONFIRMED
URL:https://kulvio.de/event/2762
END:VEVENT
END:VCALENDAR
