BEGIN:VCALENDAR
VERSION:2.0
PRODID:-//Kulvio Event Calendar//kulvio.de//
CALSCALE:GREGORIAN
METHOD:PUBLISH
BEGIN:VEVENT
SUMMARY:Ebbelwoifest Langen - Sonntag
DTSTART:20260621T090000Z
DTEND:20260621T200000Z
DTSTAMP:20260421T042424Z
UID:kulvio-event-2763@kulvio.de
CATEGORIES:Stadtfest,Tradition
CREATED:20260419T160306Z
DESCRIPTION:Am Sonntag lädt das Ebbelwoifest in der Langener Altstadt zum
  gemütlichen Familientag ein. Ab 11 Uhr gibt es Apfelwein vom Vierröhren
 brunnen\, Live-Musik und Kinderangebote. Das Fest zählt zu den beliebtest
 en Veranstaltungen in Langen.
GEO:49.989306;8.680358
LAST-MODIFIED:20260420T175727Z
LOCATION:Vierröhrenbrunnen\, 63225\, Langen (Hessen)
STATUS:CONFIRMED
URL:https://kulvio.de/event/2763
END:VEVENT
END:VCALENDAR
