BEGIN:VCALENDAR
VERSION:2.0
PRODID:-//Kulvio Event Calendar//kulvio.de//
CALSCALE:GREGORIAN
METHOD:PUBLISH
BEGIN:VEVENT
SUMMARY:Weinfest Langen - Samstag
DTSTART:20260808T120000Z
DTEND:20260808T200000Z
DTSTAMP:20260421T035114Z
UID:kulvio-event-2764@kulvio.de
CATEGORIES:Tasting,Stadtfest
CREATED:20260419T160306Z
DESCRIPTION:Das Langener Weinfest auf dem Rathausplatz bringt Winzer aus D
 eutschland und Österreich zusammen. Am Samstag gibt es von 14 bis 22 Uhr 
 eine Auswahl regionaler Weine\, begleitet von Live-Musik und kulinarischen
  Angeboten. Der Eintritt ist frei.
GEO:49.991514;8.666702
LAST-MODIFIED:20260420T175734Z
LOCATION:Rathausplatz\, 63225\, Langen (Hessen)
STATUS:CONFIRMED
URL:https://kulvio.de/event/2764
END:VEVENT
END:VCALENDAR
