BEGIN:VCALENDAR
VERSION:2.0
PRODID:-//Kulvio Event Calendar//kulvio.de//
CALSCALE:GREGORIAN
METHOD:PUBLISH
BEGIN:VEVENT
SUMMARY:Weinfest Langen - Sonntag
DTSTART:20260809T100000Z
DTEND:20260809T180000Z
DTSTAMP:20260421T081514Z
UID:kulvio-event-2765@kulvio.de
CATEGORIES:Tasting,Stadtfest
CREATED:20260419T160306Z
DESCRIPTION:Am Sonntag geht das Langener Weinfest auf dem Rathausplatz in 
 die letzte Runde. Von 12 bis 20 Uhr können Besucher Weine probieren und d
 azu regionale Speisen genießen. Winzer aus verschiedenen Anbaugebieten pr
 äsentieren ihre Erzeugnisse.
GEO:49.991514;8.666702
LAST-MODIFIED:20260420T175734Z
LOCATION:Rathausplatz\, 63225\, Langen (Hessen)
STATUS:CONFIRMED
URL:https://kulvio.de/event/2765
END:VEVENT
END:VCALENDAR
