BEGIN:VCALENDAR
VERSION:2.0
PRODID:-//Kulvio Event Calendar//kulvio.de//
CALSCALE:GREGORIAN
METHOD:PUBLISH
BEGIN:VEVENT
SUMMARY:Langener Kerb - Samstag
DTSTART:20260905T120000Z
DTEND:20260905T210000Z
DTSTAMP:20260421T035542Z
UID:kulvio-event-2766@kulvio.de
CATEGORIES:Stadtfest,Tradition
CREATED:20260419T160306Z
DESCRIPTION:Die Langener Kerb startet am Samstag auf dem Friedrich-Ludwig-
 Jahn-Platz mit Fahrgeschäften\, Festzelt und kulinarischen Angeboten. Das
  viertägige Volksfest ist eine der ältesten Traditionen der Stadt und lo
 ckt Besucher aus der gesamten Region an. Ab 14 Uhr öffnen die Stände und
  Karussells für Familien und Kerbfreunde.
GEO:49.988753;8.671571
LAST-MODIFIED:20260420T175737Z
LOCATION:Friedrich-Ludwig-Jahn-Platz\, 63225\, Langen (Hessen)
STATUS:CONFIRMED
URL:https://kulvio.de/event/2766
END:VEVENT
END:VCALENDAR
