BEGIN:VCALENDAR
VERSION:2.0
PRODID:-//Kulvio Event Calendar//kulvio.de//
CALSCALE:GREGORIAN
METHOD:PUBLISH
BEGIN:VEVENT
SUMMARY:Langener Kerb und Langener Markt - Sonntag
DTSTART:20260906T090000Z
DTEND:20260906T210000Z
DTSTAMP:20260421T042311Z
UID:kulvio-event-2767@kulvio.de
CATEGORIES:Stadtfest,Tradition
CREATED:20260419T160306Z
DESCRIPTION:Am Sonntag verbindet sich die Langener Kerb mit dem Langener M
 arkt zu einem großen Familien- und Einkaufstag. Neben den Fahrgeschäften
  auf dem Friedrich-Ludwig-Jahn-Platz öffnen die Geschäfte in der Innenst
 adt und Vereine präsentieren sich mit Ständen und Vorführungen. Der Son
 ntag mit verkaufsoffenem Nachmittag ist der bestbesuchte Tag des Kerbwoche
 nendes.
GEO:49.988753;8.671571
LAST-MODIFIED:20260420T175737Z
LOCATION:Friedrich-Ludwig-Jahn-Platz\, 63225\, Langen (Hessen)
STATUS:CONFIRMED
URL:https://kulvio.de/event/2767
END:VEVENT
END:VCALENDAR
