BEGIN:VCALENDAR
VERSION:2.0
PRODID:-//Kulvio Event Calendar//kulvio.de//
CALSCALE:GREGORIAN
METHOD:PUBLISH
BEGIN:VEVENT
SUMMARY:Das Fürstliche Gartenfest Schloss Wolfsgarten - Samstag
DTSTART:20260919T080000Z
DTEND:20260919T160000Z
DTSTAMP:20260421T042809Z
UID:kulvio-event-2768@kulvio.de
CATEGORIES:Saisonmarkt,Open-Air
CREATED:20260419T160306Z
DESCRIPTION:Das Fürstliche Gartenfest auf Schloss Wolfsgarten in Langen 
 öffnet am Samstag seine Tore für Pflanzenliebhaber und Gartenfreunde. Vo
 n 10 bis 18 Uhr präsentieren Aussteller eine exklusive Auswahl an Pflanze
 n\, Gartenzubehör und Dekorationsideen. Das historische Schlossgelände b
 ietet eine stimmungsvolle Kulisse für den Rundgang.
GEO:49.983199;8.642172
LAST-MODIFIED:20260419T160815Z
LOCATION:Schloss Wolfsgarten\, Prinzessin-Margaret-Allee\, 63225\, Langen 
 (Hessen)
STATUS:CONFIRMED
URL:https://kulvio.de/event/2768
END:VEVENT
END:VCALENDAR
