BEGIN:VCALENDAR
VERSION:2.0
PRODID:-//Kulvio Event Calendar//kulvio.de//
CALSCALE:GREGORIAN
METHOD:PUBLISH
BEGIN:VEVENT
SUMMARY:Das Fürstliche Gartenfest Schloss Wolfsgarten - Sonntag
DTSTART:20260920T080000Z
DTEND:20260920T160000Z
DTSTAMP:20260421T042433Z
UID:kulvio-event-2769@kulvio.de
CATEGORIES:Saisonmarkt,Open-Air
CREATED:20260419T160306Z
DESCRIPTION:Am Sonntag lädt das Fürstliche Gartenfest auf Schloss Wolfsg
 arten zum zweiten Mal in die weitläufige Parkanlage ein. Von 10 bis 18 Uh
 r können Besucher Pflanzen\, Gartengeräte und handgemachte Accessoires e
 ntdecken. Das Gartenfest zählt zu den renommiertesten Gartenevents in Hes
 sen.
GEO:49.983199;8.642172
LAST-MODIFIED:20260419T160815Z
LOCATION:Schloss Wolfsgarten\, Prinzessin-Margaret-Allee\, 63225\, Langen 
 (Hessen)
STATUS:CONFIRMED
URL:https://kulvio.de/event/2769
END:VEVENT
END:VCALENDAR
