BEGIN:VCALENDAR
VERSION:2.0
PRODID:-//Kulvio Event Calendar//kulvio.de//
CALSCALE:GREGORIAN
METHOD:PUBLISH
BEGIN:VEVENT
SUMMARY:Langener Weihnachtsmarkt - 1. Wochenende Samstag
DTSTART:20261128T140000Z
DTEND:20261128T200000Z
DTSTAMP:20260421T084536Z
UID:kulvio-event-2770@kulvio.de
CATEGORIES:Weihnachtsmarkt
CREATED:20260419T160306Z
DESCRIPTION:Der Langener Weihnachtsmarkt rund um die Stadtkirche eröffnet
  das erste von zwei Adventswochenenden. Von 15 bis 21 Uhr laden Stände mi
 t Kunsthandwerk\, Glühwein und weihnachtlichen Spezialitäten zum Bummeln
  ein. Die festlich geschmückte Altstadt sorgt für vorweihnachtliche Stim
 mung.
GEO:49.989553;8.681373
LAST-MODIFIED:20260420T175955Z
LOCATION:Stadtkirche Langen\, 63225\, Langen (Hessen)
STATUS:CONFIRMED
URL:https://kulvio.de/event/2770
END:VEVENT
END:VCALENDAR
