BEGIN:VCALENDAR
VERSION:2.0
PRODID:-//Kulvio Event Calendar//kulvio.de//
CALSCALE:GREGORIAN
METHOD:PUBLISH
BEGIN:VEVENT
SUMMARY:Langener Weihnachtsmarkt - 2. Wochenende Samstag
DTSTART:20261205T140000Z
DTEND:20261205T200000Z
DTSTAMP:20260421T042119Z
UID:kulvio-event-2771@kulvio.de
CATEGORIES:Weihnachtsmarkt
CREATED:20260419T160306Z
DESCRIPTION:Am zweiten Adventswochenende öffnet der Langener Weihnachtsma
 rkt rund um die Stadtkirche erneut seine Stände. Von 15 bis 21 Uhr gibt e
 s Kunsthandwerk\, Geschenkideen und kulinarische Angebote. Der Weihnachtsm
 arkt erstreckt sich über zwei Wochenenden und ist ein fester Bestandteil 
 der Langener Adventszeit.
GEO:49.989553;8.681373
LAST-MODIFIED:20260420T175958Z
LOCATION:Stadtkirche Langen\, 63225\, Langen (Hessen)
STATUS:CONFIRMED
URL:https://kulvio.de/event/2771
END:VEVENT
END:VCALENDAR
