BEGIN:VCALENDAR
VERSION:2.0
PRODID:-//Kulvio Event Calendar//kulvio.de//
CALSCALE:GREGORIAN
METHOD:PUBLISH
BEGIN:VEVENT
SUMMARY:Daphne de Luxe: Artgerecht
DTSTART:20260425T180000Z
DTEND:20260425T203000Z
DTSTAMP:20260421T042424Z
UID:kulvio-event-2772@kulvio.de
CATEGORIES:Comedy,Kabarett
CREATED:20260419T160320Z
DESCRIPTION:Die Comedienne Daphne de Luxe präsentiert ihr Programm Artger
 echt in der Willy-Brandt-Halle in Mühlheim am Main. Die Show verbindet Ka
 barett\, Comedy und Musik mit humorvollen Beobachtungen über das Zusammen
 leben von Mensch und Tier. Das Programm im Großen Saal beginnt um 20 Uhr.
GEO:50.119681;8.83231
LAST-MODIFIED:20260419T160815Z
LOCATION:Willy-Brandt-Halle\, Friedensstraße 20\, 63165\, Mühlheim am Ma
 in
STATUS:CONFIRMED
URL:https://kulvio.de/event/2772
END:VEVENT
END:VCALENDAR
