BEGIN:VCALENDAR
VERSION:2.0
PRODID:-//Kulvio Event Calendar//kulvio.de//
CALSCALE:GREGORIAN
METHOD:PUBLISH
BEGIN:VEVENT
SUMMARY:Rock in den Mai: The Free Electric Band
DTSTART:20260430T180000Z
DTEND:20260430T220000Z
DTSTAMP:20260421T042427Z
UID:kulvio-event-2773@kulvio.de
CATEGORIES:Konzert,Party
CREATED:20260419T160320Z
DESCRIPTION:The Free Electric Band spielt zum Rock in den Mai in der Kultu
 rhalle Schanz in Mühlheim am Main. Die Rockband liefert ab 20 Uhr eine en
 ergiegeladene Show zum Auftakt in den Mai. Die Schanz ist ein beliebter Ve
 ranstaltungsort für Live-Musik im Kreis Offenbach.
GEO:50.118816;8.839816
LAST-MODIFIED:20260419T160815Z
LOCATION:Kulturhalle Schanz\, Carl-Zeiss-Straße 6\, 63165\, Mühlheim am 
 Main
STATUS:CONFIRMED
URL:https://kulvio.de/event/2773
END:VEVENT
END:VCALENDAR
