BEGIN:VCALENDAR
VERSION:2.0
PRODID:-//Kulvio Event Calendar//kulvio.de//
CALSCALE:GREGORIAN
METHOD:PUBLISH
BEGIN:VEVENT
SUMMARY:Mode Machine: Depeche Mode Tribute
DTSTART:20260508T180000Z
DTEND:20260508T210000Z
DTSTAMP:20260421T035205Z
UID:kulvio-event-2774@kulvio.de
CATEGORIES:Konzert
CREATED:20260419T160320Z
DESCRIPTION:Die Tribute-Band Mode Machine bringt die Hits von Depeche Mode
  auf die Bühne der Kulturhalle Schanz in Mühlheim am Main. Das Konzert b
 eginnt um 20 Uhr und verspricht einen Abend mit den bekanntesten Songs der
  Synthie-Pop-Legenden. Die Band ist für ihre originalgetreuen Live-Perfor
 mances bekannt.
GEO:50.118816;8.839816
LAST-MODIFIED:20260419T160815Z
LOCATION:Kulturhalle Schanz\, Carl-Zeiss-Straße 6\, 63165\, Mühlheim am 
 Main
STATUS:CONFIRMED
URL:https://kulvio.de/event/2774
END:VEVENT
END:VCALENDAR
