BEGIN:VCALENDAR
VERSION:2.0
PRODID:-//Kulvio Event Calendar//kulvio.de//
CALSCALE:GREGORIAN
METHOD:PUBLISH
BEGIN:VEVENT
SUMMARY:Tim Becker: Schnauze!
DTSTART:20260529T183000Z
DTEND:20260529T203000Z
DTSTAMP:20260421T084537Z
UID:kulvio-event-2775@kulvio.de
CATEGORIES:Comedy
CREATED:20260419T160320Z
DESCRIPTION:Der Comedian Tim Becker präsentiert sein Programm Schnauze! i
 n der Kulturhalle Schanz in Mühlheim am Main. Mit pointiertem Humor und d
 irekter Art nimmt Becker den Alltag aufs Korn. Die Show beginnt um 20:30 U
 hr.
GEO:50.118816;8.839816
LAST-MODIFIED:20260419T160815Z
LOCATION:Kulturhalle Schanz\, Carl-Zeiss-Straße 6\, 63165\, Mühlheim am 
 Main
STATUS:CONFIRMED
URL:https://kulvio.de/event/2775
END:VEVENT
END:VCALENDAR
