BEGIN:VCALENDAR
VERSION:2.0
PRODID:-//Kulvio Event Calendar//kulvio.de//
CALSCALE:GREGORIAN
METHOD:PUBLISH
BEGIN:VEVENT
SUMMARY:BembelXCore Club: 5 Jahre Jubiläumsfest
DTSTART:20260711T140000Z
DTEND:20260711T210000Z
DTSTAMP:20260421T042308Z
UID:kulvio-event-2776@kulvio.de
CATEGORIES:Konzert,Festival
CREATED:20260419T160320Z
DESCRIPTION:Der BembelXCore Club feiert sein fünfjähriges Bestehen mit e
 inem Jubiläumsfest in der Kulturhalle Schanz in Mühlheim am Main. Ab 16 
 Uhr gibt es Live-Musik\, Apfelwein und Programm rund um die hessische Szen
 e. Das Jubiläumsfest vereint die lokale Musik- und Kulturszene an einem N
 achmittag und Abend.
GEO:50.118816;8.839816
LAST-MODIFIED:20260419T160815Z
LOCATION:Kulturhalle Schanz\, Carl-Zeiss-Straße 6\, 63165\, Mühlheim am 
 Main
STATUS:CONFIRMED
URL:https://kulvio.de/event/2776
END:VEVENT
END:VCALENDAR
