BEGIN:VCALENDAR
VERSION:2.0
PRODID:-//Kulvio Event Calendar//kulvio.de//
CALSCALE:GREGORIAN
METHOD:PUBLISH
BEGIN:VEVENT
SUMMARY:Dietrich Faber: Mit Gefühl!
DTSTART:20260814T183000Z
DTEND:20260814T203000Z
DTSTAMP:20260421T042431Z
UID:kulvio-event-2777@kulvio.de
CATEGORIES:Comedy,Kabarett
CREATED:20260419T160320Z
DESCRIPTION:Der Autor und Comedian Dietrich Faber zeigt sein Programm Mit 
 Gefühl! in der Kulturhalle Schanz in Mühlheim am Main. Faber ist bekannt
  für seine hessischen Comedy-Romane und seinen trockenen Humor. Die Vorst
 ellung beginnt um 20:30 Uhr.
GEO:50.118816;8.839816
LAST-MODIFIED:20260419T160815Z
LOCATION:Kulturhalle Schanz\, Carl-Zeiss-Straße 6\, 63165\, Mühlheim am 
 Main
STATUS:CONFIRMED
URL:https://kulvio.de/event/2777
END:VEVENT
END:VCALENDAR
