BEGIN:VCALENDAR
VERSION:2.0
PRODID:-//Kulvio Event Calendar//kulvio.de//
CALSCALE:GREGORIAN
METHOD:PUBLISH
BEGIN:VEVENT
SUMMARY:Alex im Westerland: Die Ärzte Tribute
DTSTART:20260925T180000Z
DTEND:20260925T210000Z
DTSTAMP:20260421T042821Z
UID:kulvio-event-2778@kulvio.de
CATEGORIES:Konzert
CREATED:20260419T160320Z
DESCRIPTION:Die Punk-Tribute-Band Alex im Westerland spielt in der Kulturh
 alle Schanz in Mühlheim am Main. Die Band bringt die größten Hits von D
 ie Ärzte auf die Bühne und sorgt für echte Punkrock-Stimmung. Das Konze
 rt beginnt um 20 Uhr.
GEO:50.118816;8.839816
LAST-MODIFIED:20260419T160815Z
LOCATION:Kulturhalle Schanz\, Carl-Zeiss-Straße 6\, 63165\, Mühlheim am 
 Main
STATUS:CONFIRMED
URL:https://kulvio.de/event/2778
END:VEVENT
END:VCALENDAR
