BEGIN:VCALENDAR
VERSION:2.0
PRODID:-//Kulvio Event Calendar//kulvio.de//
CALSCALE:GREGORIAN
METHOD:PUBLISH
BEGIN:VEVENT
SUMMARY:Peter Kunz: Comedy-Show
DTSTART:20261120T193000Z
DTEND:20261120T213000Z
DTSTAMP:20260423T112447Z
UID:kulvio-event-2779@kulvio.de
CATEGORIES:Comedy
CREATED:20260419T160320Z
DESCRIPTION:Der Comedian Peter Kunz tritt in der Kulturhalle Schanz in Mü
 hlheim am Main auf. Mit seinem Programm aus Stand-Up und Geschichten bring
 t Kunz das Publikum zum Lachen. Der Abend beginnt um 20:30 Uhr.
GEO:50.118816;8.839816
LAST-MODIFIED:20260419T160815Z
LOCATION:Kulturhalle Schanz\, Carl-Zeiss-Straße 6\, 63165\, Mühlheim am 
 Main
STATUS:CONFIRMED
URL:https://kulvio.de/event/2779
END:VEVENT
END:VCALENDAR
