BEGIN:VCALENDAR
VERSION:2.0
PRODID:-//Kulvio Event Calendar//kulvio.de//
CALSCALE:GREGORIAN
METHOD:PUBLISH
BEGIN:VEVENT
SUMMARY:Rena Schwarz: Comedy im Bürgerhaus
DTSTART:20260425T180000Z
DTEND:20260425T200000Z
DTSTAMP:20260421T105602Z
UID:kulvio-event-2782@kulvio.de
CATEGORIES:Comedy
CREATED:20260419T160339Z
DESCRIPTION:Die Comedienne Rena Schwarz tritt im Bürgerhaus Hausen in Obe
 rtshausen auf. Ihr Stand-Up-Programm dreht sich um Beziehungen\, Alltag un
 d die Absurditäten des modernen Lebens. Das Programm beginnt um 20 Uhr\, 
 Tickets kosten zwischen 22 und 24 Euro.
GEO:50.081744;8.859469
LAST-MODIFIED:20260419T160815Z
LOCATION:Bürgerhaus Hausen\, Tempelhofer Straße 10\, 63179\, Obertshause
 n
STATUS:CONFIRMED
URL:https://kulvio.de/event/2782
END:VEVENT
END:VCALENDAR
