BEGIN:VCALENDAR
VERSION:2.0
PRODID:-//Kulvio Event Calendar//kulvio.de//
CALSCALE:GREGORIAN
METHOD:PUBLISH
BEGIN:VEVENT
SUMMARY:Frühlingsfest auf der Beethovenstraße
DTSTART:20260502T130000Z
DTEND:20260502T180000Z
DTSTAMP:20260421T035136Z
UID:kulvio-event-2783@kulvio.de
CATEGORIES:Stadtfest
CREATED:20260419T160339Z
DESCRIPTION:Das Frühlingsfest findet auf der Beethovenstraße und Schulst
 raße in Obertshausen statt. Von 15 bis 20 Uhr gibt es Stände lokaler Anb
 ieter\, kulinarische Angebote und Aktivitäten für Kinder. Das Straßenfe
 st läutet die warme Jahreszeit in Obertshausen ein.
GEO:50.068597;8.837609
LAST-MODIFIED:20260420T175722Z
LOCATION:Beethovenstraße\, 63179\, Obertshausen
STATUS:CONFIRMED
URL:https://kulvio.de/event/2783
END:VEVENT
END:VCALENDAR
